BEGIN:VCALENDAR
VERSION:2.0
PRODID:-//Taboo 876 - ECPv6.13.2.1//NONSGML v1.0//EN
CALSCALE:GREGORIAN
METHOD:PUBLISH
X-ORIGINAL-URL:https://taboo876.com
X-WR-CALDESC:Events for Taboo 876
REFRESH-INTERVAL;VALUE=DURATION:PT1H
X-Robots-Tag:noindex
X-PUBLISHED-TTL:PT1H
BEGIN:VTIMEZONE
TZID:America/Jamaica
BEGIN:STANDARD
TZOFFSETFROM:-0500
TZOFFSETTO:-0500
TZNAME:EST
DTSTART:20290101T000000
END:STANDARD
END:VTIMEZONE
BEGIN:VEVENT
DTSTART;TZID=America/Jamaica:20291208T220000
DTEND;TZID=America/Jamaica:20291209T040000
DTSTAMP:20260422T180553
CREATED:20250615T211334Z
LAST-MODIFIED:20250615T211334Z
UID:10001402-1891461600-1891483200@taboo876.com
SUMMARY:MOB Saturdays
DESCRIPTION:
URL:https://taboo876.com/event/mob-saturdays/2029-12-08/
LOCATION:Taboo Kingston\, 112 Constant Spring Road\, Kingston\, 00000\, Jamaica
CATEGORIES:Kingston
ATTACH;FMTTYPE=image/jpeg:https://taboo876.com/wp-content/uploads/2025/06/Taboo-Kingston-MOB-Saturdays-IG_post_default.jpg
GEO:18.032993219455;-76.795079334921
X-APPLE-STRUCTURED-LOCATION;VALUE=URI;X-ADDRESS=Taboo Kingston 112 Constant Spring Road Kingston 00000 Jamaica;X-APPLE-RADIUS=500;X-TITLE=112 Constant Spring Road:geo:-76.795079334921,18.032993219455
END:VEVENT
BEGIN:VEVENT
DTSTART;TZID=America/Jamaica:20291211T220000
DTEND;TZID=America/Jamaica:20291212T040000
DTSTAMP:20260422T180553
CREATED:20250615T212108Z
LAST-MODIFIED:20250615T212108Z
UID:10001664-1891720800-1891742400@taboo876.com
SUMMARY:Booze & Boobs Tuesdays
DESCRIPTION:
URL:https://taboo876.com/event/booze-boobs-tuesdays/2029-12-11/
LOCATION:Taboo Kingston\, 112 Constant Spring Road\, Kingston\, 00000\, Jamaica
CATEGORIES:Kingston
ATTACH;FMTTYPE=image/jpeg:https://taboo876.com/wp-content/uploads/2025/06/booze-booze-tuesdays.jpg
GEO:18.032993219455;-76.795079334921
X-APPLE-STRUCTURED-LOCATION;VALUE=URI;X-ADDRESS=Taboo Kingston 112 Constant Spring Road Kingston 00000 Jamaica;X-APPLE-RADIUS=500;X-TITLE=112 Constant Spring Road:geo:-76.795079334921,18.032993219455
END:VEVENT
BEGIN:VEVENT
DTSTART;TZID=America/Jamaica:20291212T220000
DTEND;TZID=America/Jamaica:20291213T040000
DTSTAMP:20260422T180553
CREATED:20250615T213118Z
LAST-MODIFIED:20250615T213118Z
UID:10001925-1891807200-1891828800@taboo876.com
SUMMARY:Strip Tease Wednesdays
DESCRIPTION:
URL:https://taboo876.com/event/strip-tease-wednesdays/2029-12-12/
LOCATION:Taboo Kingston\, 112 Constant Spring Road\, Kingston\, 00000\, Jamaica
CATEGORIES:Kingston
ATTACH;FMTTYPE=image/jpeg:https://taboo876.com/wp-content/uploads/2025/06/strip-tease-wednesdays.jpg
GEO:18.032993219455;-76.795079334921
X-APPLE-STRUCTURED-LOCATION;VALUE=URI;X-ADDRESS=Taboo Kingston 112 Constant Spring Road Kingston 00000 Jamaica;X-APPLE-RADIUS=500;X-TITLE=112 Constant Spring Road:geo:-76.795079334921,18.032993219455
END:VEVENT
BEGIN:VEVENT
DTSTART;TZID=America/Jamaica:20291213T220000
DTEND;TZID=America/Jamaica:20291214T040000
DTSTAMP:20260422T180553
CREATED:20250615T204717Z
LAST-MODIFIED:20250615T204717Z
UID:10000879-1891893600-1891915200@taboo876.com
SUMMARY:Tequila Thursdays
DESCRIPTION:
URL:https://taboo876.com/event/tequila-thursdays/2029-12-13/
LOCATION:Taboo Kingston\, 112 Constant Spring Road\, Kingston\, 00000\, Jamaica
CATEGORIES:Kingston
ATTACH;FMTTYPE=image/jpeg:https://taboo876.com/wp-content/uploads/2025/06/Taboo-Kgn-Tequila-Thursdays-IG_post_default.jpg
GEO:18.032993219455;-76.795079334921
X-APPLE-STRUCTURED-LOCATION;VALUE=URI;X-ADDRESS=Taboo Kingston 112 Constant Spring Road Kingston 00000 Jamaica;X-APPLE-RADIUS=500;X-TITLE=112 Constant Spring Road:geo:-76.795079334921,18.032993219455
END:VEVENT
BEGIN:VEVENT
DTSTART;TZID=America/Jamaica:20291214T220000
DTEND;TZID=America/Jamaica:20291215T040000
DTSTAMP:20260422T180553
CREATED:20250615T205232Z
LAST-MODIFIED:20250615T205232Z
UID:10001141-1891980000-1892001600@taboo876.com
SUMMARY:eXpliXit Fridaze
DESCRIPTION:
URL:https://taboo876.com/event/explixit-fridaze/2029-12-14/
LOCATION:Taboo Kingston\, 112 Constant Spring Road\, Kingston\, 00000\, Jamaica
CATEGORIES:Kingston
ATTACH;FMTTYPE=image/jpeg:https://taboo876.com/wp-content/uploads/2025/06/Taboo-Kgn-eXpliXit-Fridaze-IG_post_default.jpg
GEO:18.032993219455;-76.795079334921
X-APPLE-STRUCTURED-LOCATION;VALUE=URI;X-ADDRESS=Taboo Kingston 112 Constant Spring Road Kingston 00000 Jamaica;X-APPLE-RADIUS=500;X-TITLE=112 Constant Spring Road:geo:-76.795079334921,18.032993219455
END:VEVENT
BEGIN:VEVENT
DTSTART;TZID=America/Jamaica:20291215T220000
DTEND;TZID=America/Jamaica:20291216T040000
DTSTAMP:20260422T180553
CREATED:20250615T211334Z
LAST-MODIFIED:20250615T211334Z
UID:10001403-1892066400-1892088000@taboo876.com
SUMMARY:MOB Saturdays
DESCRIPTION:
URL:https://taboo876.com/event/mob-saturdays/2029-12-15/
LOCATION:Taboo Kingston\, 112 Constant Spring Road\, Kingston\, 00000\, Jamaica
CATEGORIES:Kingston
ATTACH;FMTTYPE=image/jpeg:https://taboo876.com/wp-content/uploads/2025/06/Taboo-Kingston-MOB-Saturdays-IG_post_default.jpg
GEO:18.032993219455;-76.795079334921
X-APPLE-STRUCTURED-LOCATION;VALUE=URI;X-ADDRESS=Taboo Kingston 112 Constant Spring Road Kingston 00000 Jamaica;X-APPLE-RADIUS=500;X-TITLE=112 Constant Spring Road:geo:-76.795079334921,18.032993219455
END:VEVENT
END:VCALENDAR