BEGIN:VCALENDAR
VERSION:2.0
PRODID:-//Taboo 876 - ECPv6.13.2.1//NONSGML v1.0//EN
CALSCALE:GREGORIAN
METHOD:PUBLISH
X-ORIGINAL-URL:https://taboo876.com
X-WR-CALDESC:Events for Taboo 876
REFRESH-INTERVAL;VALUE=DURATION:PT1H
X-Robots-Tag:noindex
X-PUBLISHED-TTL:PT1H
BEGIN:VTIMEZONE
TZID:America/Jamaica
BEGIN:STANDARD
TZOFFSETFROM:-0500
TZOFFSETTO:-0500
TZNAME:EST
DTSTART:20290101T000000
END:STANDARD
END:VTIMEZONE
BEGIN:VEVENT
DTSTART;TZID=America/Jamaica:20290922T220000
DTEND;TZID=America/Jamaica:20290923T040000
DTSTAMP:20260422T044815
CREATED:20250615T211334Z
LAST-MODIFIED:20250615T211334Z
UID:10001391-1884808800-1884830400@taboo876.com
SUMMARY:MOB Saturdays
DESCRIPTION:
URL:https://taboo876.com/event/mob-saturdays/2029-09-22/
LOCATION:Taboo Kingston\, 112 Constant Spring Road\, Kingston\, 00000\, Jamaica
CATEGORIES:Kingston
ATTACH;FMTTYPE=image/jpeg:https://taboo876.com/wp-content/uploads/2025/06/Taboo-Kingston-MOB-Saturdays-IG_post_default.jpg
GEO:18.032993219455;-76.795079334921
X-APPLE-STRUCTURED-LOCATION;VALUE=URI;X-ADDRESS=Taboo Kingston 112 Constant Spring Road Kingston 00000 Jamaica;X-APPLE-RADIUS=500;X-TITLE=112 Constant Spring Road:geo:-76.795079334921,18.032993219455
END:VEVENT
BEGIN:VEVENT
DTSTART;TZID=America/Jamaica:20290925T220000
DTEND;TZID=America/Jamaica:20290926T040000
DTSTAMP:20260422T044815
CREATED:20250615T212108Z
LAST-MODIFIED:20250615T212108Z
UID:10001653-1885068000-1885089600@taboo876.com
SUMMARY:Booze & Boobs Tuesdays
DESCRIPTION:
URL:https://taboo876.com/event/booze-boobs-tuesdays/2029-09-25/
LOCATION:Taboo Kingston\, 112 Constant Spring Road\, Kingston\, 00000\, Jamaica
CATEGORIES:Kingston
ATTACH;FMTTYPE=image/jpeg:https://taboo876.com/wp-content/uploads/2025/06/booze-booze-tuesdays.jpg
GEO:18.032993219455;-76.795079334921
X-APPLE-STRUCTURED-LOCATION;VALUE=URI;X-ADDRESS=Taboo Kingston 112 Constant Spring Road Kingston 00000 Jamaica;X-APPLE-RADIUS=500;X-TITLE=112 Constant Spring Road:geo:-76.795079334921,18.032993219455
END:VEVENT
BEGIN:VEVENT
DTSTART;TZID=America/Jamaica:20290926T220000
DTEND;TZID=America/Jamaica:20290927T040000
DTSTAMP:20260422T044815
CREATED:20250615T213118Z
LAST-MODIFIED:20250615T213118Z
UID:10001914-1885154400-1885176000@taboo876.com
SUMMARY:Strip Tease Wednesdays
DESCRIPTION:
URL:https://taboo876.com/event/strip-tease-wednesdays/2029-09-26/
LOCATION:Taboo Kingston\, 112 Constant Spring Road\, Kingston\, 00000\, Jamaica
CATEGORIES:Kingston
ATTACH;FMTTYPE=image/jpeg:https://taboo876.com/wp-content/uploads/2025/06/strip-tease-wednesdays.jpg
GEO:18.032993219455;-76.795079334921
X-APPLE-STRUCTURED-LOCATION;VALUE=URI;X-ADDRESS=Taboo Kingston 112 Constant Spring Road Kingston 00000 Jamaica;X-APPLE-RADIUS=500;X-TITLE=112 Constant Spring Road:geo:-76.795079334921,18.032993219455
END:VEVENT
BEGIN:VEVENT
DTSTART;TZID=America/Jamaica:20290927T220000
DTEND;TZID=America/Jamaica:20290928T040000
DTSTAMP:20260422T044815
CREATED:20250615T204717Z
LAST-MODIFIED:20250615T204717Z
UID:10000868-1885240800-1885262400@taboo876.com
SUMMARY:Tequila Thursdays
DESCRIPTION:
URL:https://taboo876.com/event/tequila-thursdays/2029-09-27/
LOCATION:Taboo Kingston\, 112 Constant Spring Road\, Kingston\, 00000\, Jamaica
CATEGORIES:Kingston
ATTACH;FMTTYPE=image/jpeg:https://taboo876.com/wp-content/uploads/2025/06/Taboo-Kgn-Tequila-Thursdays-IG_post_default.jpg
GEO:18.032993219455;-76.795079334921
X-APPLE-STRUCTURED-LOCATION;VALUE=URI;X-ADDRESS=Taboo Kingston 112 Constant Spring Road Kingston 00000 Jamaica;X-APPLE-RADIUS=500;X-TITLE=112 Constant Spring Road:geo:-76.795079334921,18.032993219455
END:VEVENT
BEGIN:VEVENT
DTSTART;TZID=America/Jamaica:20290928T220000
DTEND;TZID=America/Jamaica:20290929T040000
DTSTAMP:20260422T044815
CREATED:20250615T205232Z
LAST-MODIFIED:20250615T205232Z
UID:10001130-1885327200-1885348800@taboo876.com
SUMMARY:eXpliXit Fridaze
DESCRIPTION:
URL:https://taboo876.com/event/explixit-fridaze/2029-09-28/
LOCATION:Taboo Kingston\, 112 Constant Spring Road\, Kingston\, 00000\, Jamaica
CATEGORIES:Kingston
ATTACH;FMTTYPE=image/jpeg:https://taboo876.com/wp-content/uploads/2025/06/Taboo-Kgn-eXpliXit-Fridaze-IG_post_default.jpg
GEO:18.032993219455;-76.795079334921
X-APPLE-STRUCTURED-LOCATION;VALUE=URI;X-ADDRESS=Taboo Kingston 112 Constant Spring Road Kingston 00000 Jamaica;X-APPLE-RADIUS=500;X-TITLE=112 Constant Spring Road:geo:-76.795079334921,18.032993219455
END:VEVENT
BEGIN:VEVENT
DTSTART;TZID=America/Jamaica:20290929T220000
DTEND;TZID=America/Jamaica:20290930T040000
DTSTAMP:20260422T044815
CREATED:20250615T211334Z
LAST-MODIFIED:20250615T211334Z
UID:10001392-1885413600-1885435200@taboo876.com
SUMMARY:MOB Saturdays
DESCRIPTION:
URL:https://taboo876.com/event/mob-saturdays/2029-09-29/
LOCATION:Taboo Kingston\, 112 Constant Spring Road\, Kingston\, 00000\, Jamaica
CATEGORIES:Kingston
ATTACH;FMTTYPE=image/jpeg:https://taboo876.com/wp-content/uploads/2025/06/Taboo-Kingston-MOB-Saturdays-IG_post_default.jpg
GEO:18.032993219455;-76.795079334921
X-APPLE-STRUCTURED-LOCATION;VALUE=URI;X-ADDRESS=Taboo Kingston 112 Constant Spring Road Kingston 00000 Jamaica;X-APPLE-RADIUS=500;X-TITLE=112 Constant Spring Road:geo:-76.795079334921,18.032993219455
END:VEVENT
END:VCALENDAR