BEGIN:VCALENDAR
VERSION:2.0
PRODID:-//Taboo 876 - ECPv6.13.2.1//NONSGML v1.0//EN
CALSCALE:GREGORIAN
METHOD:PUBLISH
X-WR-CALNAME:Taboo 876
X-ORIGINAL-URL:https://taboo876.com
X-WR-CALDESC:Events for Taboo 876
REFRESH-INTERVAL;VALUE=DURATION:PT1H
X-Robots-Tag:noindex
X-PUBLISHED-TTL:PT1H
BEGIN:VTIMEZONE
TZID:America/Jamaica
BEGIN:STANDARD
TZOFFSETFROM:-0500
TZOFFSETTO:-0500
TZNAME:EST
DTSTART:20300101T000000
END:STANDARD
END:VTIMEZONE
BEGIN:VEVENT
DTSTART;TZID=America/Jamaica:20300511T220000
DTEND;TZID=America/Jamaica:20300512T040000
DTSTAMP:20260423T222601
CREATED:20250615T211334Z
LAST-MODIFIED:20250615T211334Z
UID:10001424-1904767200-1904788800@taboo876.com
SUMMARY:MOB Saturdays
DESCRIPTION:
URL:https://taboo876.com/event/mob-saturdays/2030-05-11/
LOCATION:Taboo Kingston\, 112 Constant Spring Road\, Kingston\, 00000\, Jamaica
CATEGORIES:Kingston
ATTACH;FMTTYPE=image/jpeg:https://taboo876.com/wp-content/uploads/2025/06/Taboo-Kingston-MOB-Saturdays-IG_post_default.jpg
GEO:18.032993219455;-76.795079334921
X-APPLE-STRUCTURED-LOCATION;VALUE=URI;X-ADDRESS=Taboo Kingston 112 Constant Spring Road Kingston 00000 Jamaica;X-APPLE-RADIUS=500;X-TITLE=112 Constant Spring Road:geo:-76.795079334921,18.032993219455
END:VEVENT
BEGIN:VEVENT
DTSTART;TZID=America/Jamaica:20300514T220000
DTEND;TZID=America/Jamaica:20300515T040000
DTSTAMP:20260423T222601
CREATED:20250615T212108Z
LAST-MODIFIED:20250615T212108Z
UID:10001686-1905026400-1905048000@taboo876.com
SUMMARY:Booze & Boobs Tuesdays
DESCRIPTION:
URL:https://taboo876.com/event/booze-boobs-tuesdays/2030-05-14/
LOCATION:Taboo Kingston\, 112 Constant Spring Road\, Kingston\, 00000\, Jamaica
CATEGORIES:Kingston
ATTACH;FMTTYPE=image/jpeg:https://taboo876.com/wp-content/uploads/2025/06/booze-booze-tuesdays.jpg
GEO:18.032993219455;-76.795079334921
X-APPLE-STRUCTURED-LOCATION;VALUE=URI;X-ADDRESS=Taboo Kingston 112 Constant Spring Road Kingston 00000 Jamaica;X-APPLE-RADIUS=500;X-TITLE=112 Constant Spring Road:geo:-76.795079334921,18.032993219455
END:VEVENT
BEGIN:VEVENT
DTSTART;TZID=America/Jamaica:20300515T220000
DTEND;TZID=America/Jamaica:20300516T040000
DTSTAMP:20260423T222601
CREATED:20250615T213118Z
LAST-MODIFIED:20250615T213118Z
UID:10001947-1905112800-1905134400@taboo876.com
SUMMARY:Strip Tease Wednesdays
DESCRIPTION:
URL:https://taboo876.com/event/strip-tease-wednesdays/2030-05-15/
LOCATION:Taboo Kingston\, 112 Constant Spring Road\, Kingston\, 00000\, Jamaica
CATEGORIES:Kingston
ATTACH;FMTTYPE=image/jpeg:https://taboo876.com/wp-content/uploads/2025/06/strip-tease-wednesdays.jpg
GEO:18.032993219455;-76.795079334921
X-APPLE-STRUCTURED-LOCATION;VALUE=URI;X-ADDRESS=Taboo Kingston 112 Constant Spring Road Kingston 00000 Jamaica;X-APPLE-RADIUS=500;X-TITLE=112 Constant Spring Road:geo:-76.795079334921,18.032993219455
END:VEVENT
BEGIN:VEVENT
DTSTART;TZID=America/Jamaica:20300516T220000
DTEND;TZID=America/Jamaica:20300517T040000
DTSTAMP:20260423T222601
CREATED:20250615T204717Z
LAST-MODIFIED:20250615T204717Z
UID:10000901-1905199200-1905220800@taboo876.com
SUMMARY:Tequila Thursdays
DESCRIPTION:
URL:https://taboo876.com/event/tequila-thursdays/2030-05-16/
LOCATION:Taboo Kingston\, 112 Constant Spring Road\, Kingston\, 00000\, Jamaica
CATEGORIES:Kingston
ATTACH;FMTTYPE=image/jpeg:https://taboo876.com/wp-content/uploads/2025/06/Taboo-Kgn-Tequila-Thursdays-IG_post_default.jpg
GEO:18.032993219455;-76.795079334921
X-APPLE-STRUCTURED-LOCATION;VALUE=URI;X-ADDRESS=Taboo Kingston 112 Constant Spring Road Kingston 00000 Jamaica;X-APPLE-RADIUS=500;X-TITLE=112 Constant Spring Road:geo:-76.795079334921,18.032993219455
END:VEVENT
BEGIN:VEVENT
DTSTART;TZID=America/Jamaica:20300517T220000
DTEND;TZID=America/Jamaica:20300518T040000
DTSTAMP:20260423T222601
CREATED:20250615T205232Z
LAST-MODIFIED:20250615T205232Z
UID:10001163-1905285600-1905307200@taboo876.com
SUMMARY:eXpliXit Fridaze
DESCRIPTION:
URL:https://taboo876.com/event/explixit-fridaze/2030-05-17/
LOCATION:Taboo Kingston\, 112 Constant Spring Road\, Kingston\, 00000\, Jamaica
CATEGORIES:Kingston
ATTACH;FMTTYPE=image/jpeg:https://taboo876.com/wp-content/uploads/2025/06/Taboo-Kgn-eXpliXit-Fridaze-IG_post_default.jpg
GEO:18.032993219455;-76.795079334921
X-APPLE-STRUCTURED-LOCATION;VALUE=URI;X-ADDRESS=Taboo Kingston 112 Constant Spring Road Kingston 00000 Jamaica;X-APPLE-RADIUS=500;X-TITLE=112 Constant Spring Road:geo:-76.795079334921,18.032993219455
END:VEVENT
BEGIN:VEVENT
DTSTART;TZID=America/Jamaica:20300518T220000
DTEND;TZID=America/Jamaica:20300519T040000
DTSTAMP:20260423T222601
CREATED:20250615T211334Z
LAST-MODIFIED:20250615T211334Z
UID:10001425-1905372000-1905393600@taboo876.com
SUMMARY:MOB Saturdays
DESCRIPTION:
URL:https://taboo876.com/event/mob-saturdays/2030-05-18/
LOCATION:Taboo Kingston\, 112 Constant Spring Road\, Kingston\, 00000\, Jamaica
CATEGORIES:Kingston
ATTACH;FMTTYPE=image/jpeg:https://taboo876.com/wp-content/uploads/2025/06/Taboo-Kingston-MOB-Saturdays-IG_post_default.jpg
GEO:18.032993219455;-76.795079334921
X-APPLE-STRUCTURED-LOCATION;VALUE=URI;X-ADDRESS=Taboo Kingston 112 Constant Spring Road Kingston 00000 Jamaica;X-APPLE-RADIUS=500;X-TITLE=112 Constant Spring Road:geo:-76.795079334921,18.032993219455
END:VEVENT
END:VCALENDAR