BEGIN:VCALENDAR
VERSION:2.0
PRODID:-//Taboo 876 - ECPv6.13.2.1//NONSGML v1.0//EN
CALSCALE:GREGORIAN
METHOD:PUBLISH
X-ORIGINAL-URL:https://taboo876.com
X-WR-CALDESC:Events for Taboo 876
REFRESH-INTERVAL;VALUE=DURATION:PT1H
X-Robots-Tag:noindex
X-PUBLISHED-TTL:PT1H
BEGIN:VTIMEZONE
TZID:America/Jamaica
BEGIN:STANDARD
TZOFFSETFROM:-0500
TZOFFSETTO:-0500
TZNAME:EST
DTSTART:20300101T000000
END:STANDARD
END:VTIMEZONE
BEGIN:VEVENT
DTSTART;TZID=America/Jamaica:20300420T220000
DTEND;TZID=America/Jamaica:20300421T040000
DTSTAMP:20260423T185055
CREATED:20250615T211334Z
LAST-MODIFIED:20250615T211334Z
UID:10001421-1902952800-1902974400@taboo876.com
SUMMARY:MOB Saturdays
DESCRIPTION:
URL:https://taboo876.com/event/mob-saturdays/2030-04-20/
LOCATION:Taboo Kingston\, 112 Constant Spring Road\, Kingston\, 00000\, Jamaica
CATEGORIES:Kingston
ATTACH;FMTTYPE=image/jpeg:https://taboo876.com/wp-content/uploads/2025/06/Taboo-Kingston-MOB-Saturdays-IG_post_default.jpg
GEO:18.032993219455;-76.795079334921
X-APPLE-STRUCTURED-LOCATION;VALUE=URI;X-ADDRESS=Taboo Kingston 112 Constant Spring Road Kingston 00000 Jamaica;X-APPLE-RADIUS=500;X-TITLE=112 Constant Spring Road:geo:-76.795079334921,18.032993219455
END:VEVENT
BEGIN:VEVENT
DTSTART;TZID=America/Jamaica:20300423T220000
DTEND;TZID=America/Jamaica:20300424T040000
DTSTAMP:20260423T185055
CREATED:20250615T212108Z
LAST-MODIFIED:20250615T212108Z
UID:10001683-1903212000-1903233600@taboo876.com
SUMMARY:Booze & Boobs Tuesdays
DESCRIPTION:
URL:https://taboo876.com/event/booze-boobs-tuesdays/2030-04-23/
LOCATION:Taboo Kingston\, 112 Constant Spring Road\, Kingston\, 00000\, Jamaica
CATEGORIES:Kingston
ATTACH;FMTTYPE=image/jpeg:https://taboo876.com/wp-content/uploads/2025/06/booze-booze-tuesdays.jpg
GEO:18.032993219455;-76.795079334921
X-APPLE-STRUCTURED-LOCATION;VALUE=URI;X-ADDRESS=Taboo Kingston 112 Constant Spring Road Kingston 00000 Jamaica;X-APPLE-RADIUS=500;X-TITLE=112 Constant Spring Road:geo:-76.795079334921,18.032993219455
END:VEVENT
BEGIN:VEVENT
DTSTART;TZID=America/Jamaica:20300424T220000
DTEND;TZID=America/Jamaica:20300425T040000
DTSTAMP:20260423T185055
CREATED:20250615T213118Z
LAST-MODIFIED:20250615T213118Z
UID:10001944-1903298400-1903320000@taboo876.com
SUMMARY:Strip Tease Wednesdays
DESCRIPTION:
URL:https://taboo876.com/event/strip-tease-wednesdays/2030-04-24/
LOCATION:Taboo Kingston\, 112 Constant Spring Road\, Kingston\, 00000\, Jamaica
CATEGORIES:Kingston
ATTACH;FMTTYPE=image/jpeg:https://taboo876.com/wp-content/uploads/2025/06/strip-tease-wednesdays.jpg
GEO:18.032993219455;-76.795079334921
X-APPLE-STRUCTURED-LOCATION;VALUE=URI;X-ADDRESS=Taboo Kingston 112 Constant Spring Road Kingston 00000 Jamaica;X-APPLE-RADIUS=500;X-TITLE=112 Constant Spring Road:geo:-76.795079334921,18.032993219455
END:VEVENT
BEGIN:VEVENT
DTSTART;TZID=America/Jamaica:20300425T220000
DTEND;TZID=America/Jamaica:20300426T040000
DTSTAMP:20260423T185055
CREATED:20250615T204717Z
LAST-MODIFIED:20250615T204717Z
UID:10000898-1903384800-1903406400@taboo876.com
SUMMARY:Tequila Thursdays
DESCRIPTION:
URL:https://taboo876.com/event/tequila-thursdays/2030-04-25/
LOCATION:Taboo Kingston\, 112 Constant Spring Road\, Kingston\, 00000\, Jamaica
CATEGORIES:Kingston
ATTACH;FMTTYPE=image/jpeg:https://taboo876.com/wp-content/uploads/2025/06/Taboo-Kgn-Tequila-Thursdays-IG_post_default.jpg
GEO:18.032993219455;-76.795079334921
X-APPLE-STRUCTURED-LOCATION;VALUE=URI;X-ADDRESS=Taboo Kingston 112 Constant Spring Road Kingston 00000 Jamaica;X-APPLE-RADIUS=500;X-TITLE=112 Constant Spring Road:geo:-76.795079334921,18.032993219455
END:VEVENT
BEGIN:VEVENT
DTSTART;TZID=America/Jamaica:20300426T220000
DTEND;TZID=America/Jamaica:20300427T040000
DTSTAMP:20260423T185055
CREATED:20250615T205232Z
LAST-MODIFIED:20250615T205232Z
UID:10001160-1903471200-1903492800@taboo876.com
SUMMARY:eXpliXit Fridaze
DESCRIPTION:
URL:https://taboo876.com/event/explixit-fridaze/2030-04-26/
LOCATION:Taboo Kingston\, 112 Constant Spring Road\, Kingston\, 00000\, Jamaica
CATEGORIES:Kingston
ATTACH;FMTTYPE=image/jpeg:https://taboo876.com/wp-content/uploads/2025/06/Taboo-Kgn-eXpliXit-Fridaze-IG_post_default.jpg
GEO:18.032993219455;-76.795079334921
X-APPLE-STRUCTURED-LOCATION;VALUE=URI;X-ADDRESS=Taboo Kingston 112 Constant Spring Road Kingston 00000 Jamaica;X-APPLE-RADIUS=500;X-TITLE=112 Constant Spring Road:geo:-76.795079334921,18.032993219455
END:VEVENT
BEGIN:VEVENT
DTSTART;TZID=America/Jamaica:20300427T220000
DTEND;TZID=America/Jamaica:20300428T040000
DTSTAMP:20260423T185055
CREATED:20250615T211334Z
LAST-MODIFIED:20250615T211334Z
UID:10001422-1903557600-1903579200@taboo876.com
SUMMARY:MOB Saturdays
DESCRIPTION:
URL:https://taboo876.com/event/mob-saturdays/2030-04-27/
LOCATION:Taboo Kingston\, 112 Constant Spring Road\, Kingston\, 00000\, Jamaica
CATEGORIES:Kingston
ATTACH;FMTTYPE=image/jpeg:https://taboo876.com/wp-content/uploads/2025/06/Taboo-Kingston-MOB-Saturdays-IG_post_default.jpg
GEO:18.032993219455;-76.795079334921
X-APPLE-STRUCTURED-LOCATION;VALUE=URI;X-ADDRESS=Taboo Kingston 112 Constant Spring Road Kingston 00000 Jamaica;X-APPLE-RADIUS=500;X-TITLE=112 Constant Spring Road:geo:-76.795079334921,18.032993219455
END:VEVENT
END:VCALENDAR