BEGIN:VCALENDAR
VERSION:2.0
PRODID:-//Taboo 876 - ECPv6.13.2.1//NONSGML v1.0//EN
CALSCALE:GREGORIAN
METHOD:PUBLISH
X-ORIGINAL-URL:https://taboo876.com
X-WR-CALDESC:Events for Taboo 876
REFRESH-INTERVAL;VALUE=DURATION:PT1H
X-Robots-Tag:noindex
X-PUBLISHED-TTL:PT1H
BEGIN:VTIMEZONE
TZID:America/Jamaica
BEGIN:STANDARD
TZOFFSETFROM:-0500
TZOFFSETTO:-0500
TZNAME:EST
DTSTART:20300101T000000
END:STANDARD
END:VTIMEZONE
BEGIN:VEVENT
DTSTART;TZID=America/Jamaica:20300406T220000
DTEND;TZID=America/Jamaica:20300407T040000
DTSTAMP:20260423T163053
CREATED:20250615T211334Z
LAST-MODIFIED:20250615T211334Z
UID:10001419-1901743200-1901764800@taboo876.com
SUMMARY:MOB Saturdays
DESCRIPTION:
URL:https://taboo876.com/event/mob-saturdays/2030-04-06/
LOCATION:Taboo Kingston\, 112 Constant Spring Road\, Kingston\, 00000\, Jamaica
CATEGORIES:Kingston
ATTACH;FMTTYPE=image/jpeg:https://taboo876.com/wp-content/uploads/2025/06/Taboo-Kingston-MOB-Saturdays-IG_post_default.jpg
GEO:18.032993219455;-76.795079334921
X-APPLE-STRUCTURED-LOCATION;VALUE=URI;X-ADDRESS=Taboo Kingston 112 Constant Spring Road Kingston 00000 Jamaica;X-APPLE-RADIUS=500;X-TITLE=112 Constant Spring Road:geo:-76.795079334921,18.032993219455
END:VEVENT
BEGIN:VEVENT
DTSTART;TZID=America/Jamaica:20300409T220000
DTEND;TZID=America/Jamaica:20300410T040000
DTSTAMP:20260423T163053
CREATED:20250615T212108Z
LAST-MODIFIED:20250615T212108Z
UID:10001681-1902002400-1902024000@taboo876.com
SUMMARY:Booze & Boobs Tuesdays
DESCRIPTION:
URL:https://taboo876.com/event/booze-boobs-tuesdays/2030-04-09/
LOCATION:Taboo Kingston\, 112 Constant Spring Road\, Kingston\, 00000\, Jamaica
CATEGORIES:Kingston
ATTACH;FMTTYPE=image/jpeg:https://taboo876.com/wp-content/uploads/2025/06/booze-booze-tuesdays.jpg
GEO:18.032993219455;-76.795079334921
X-APPLE-STRUCTURED-LOCATION;VALUE=URI;X-ADDRESS=Taboo Kingston 112 Constant Spring Road Kingston 00000 Jamaica;X-APPLE-RADIUS=500;X-TITLE=112 Constant Spring Road:geo:-76.795079334921,18.032993219455
END:VEVENT
BEGIN:VEVENT
DTSTART;TZID=America/Jamaica:20300410T220000
DTEND;TZID=America/Jamaica:20300411T040000
DTSTAMP:20260423T163053
CREATED:20250615T213118Z
LAST-MODIFIED:20250615T213118Z
UID:10001942-1902088800-1902110400@taboo876.com
SUMMARY:Strip Tease Wednesdays
DESCRIPTION:
URL:https://taboo876.com/event/strip-tease-wednesdays/2030-04-10/
LOCATION:Taboo Kingston\, 112 Constant Spring Road\, Kingston\, 00000\, Jamaica
CATEGORIES:Kingston
ATTACH;FMTTYPE=image/jpeg:https://taboo876.com/wp-content/uploads/2025/06/strip-tease-wednesdays.jpg
GEO:18.032993219455;-76.795079334921
X-APPLE-STRUCTURED-LOCATION;VALUE=URI;X-ADDRESS=Taboo Kingston 112 Constant Spring Road Kingston 00000 Jamaica;X-APPLE-RADIUS=500;X-TITLE=112 Constant Spring Road:geo:-76.795079334921,18.032993219455
END:VEVENT
BEGIN:VEVENT
DTSTART;TZID=America/Jamaica:20300411T220000
DTEND;TZID=America/Jamaica:20300412T040000
DTSTAMP:20260423T163053
CREATED:20250615T204717Z
LAST-MODIFIED:20250615T204717Z
UID:10000896-1902175200-1902196800@taboo876.com
SUMMARY:Tequila Thursdays
DESCRIPTION:
URL:https://taboo876.com/event/tequila-thursdays/2030-04-11/
LOCATION:Taboo Kingston\, 112 Constant Spring Road\, Kingston\, 00000\, Jamaica
CATEGORIES:Kingston
ATTACH;FMTTYPE=image/jpeg:https://taboo876.com/wp-content/uploads/2025/06/Taboo-Kgn-Tequila-Thursdays-IG_post_default.jpg
GEO:18.032993219455;-76.795079334921
X-APPLE-STRUCTURED-LOCATION;VALUE=URI;X-ADDRESS=Taboo Kingston 112 Constant Spring Road Kingston 00000 Jamaica;X-APPLE-RADIUS=500;X-TITLE=112 Constant Spring Road:geo:-76.795079334921,18.032993219455
END:VEVENT
BEGIN:VEVENT
DTSTART;TZID=America/Jamaica:20300412T220000
DTEND;TZID=America/Jamaica:20300413T040000
DTSTAMP:20260423T163053
CREATED:20250615T205232Z
LAST-MODIFIED:20250615T205232Z
UID:10001158-1902261600-1902283200@taboo876.com
SUMMARY:eXpliXit Fridaze
DESCRIPTION:
URL:https://taboo876.com/event/explixit-fridaze/2030-04-12/
LOCATION:Taboo Kingston\, 112 Constant Spring Road\, Kingston\, 00000\, Jamaica
CATEGORIES:Kingston
ATTACH;FMTTYPE=image/jpeg:https://taboo876.com/wp-content/uploads/2025/06/Taboo-Kgn-eXpliXit-Fridaze-IG_post_default.jpg
GEO:18.032993219455;-76.795079334921
X-APPLE-STRUCTURED-LOCATION;VALUE=URI;X-ADDRESS=Taboo Kingston 112 Constant Spring Road Kingston 00000 Jamaica;X-APPLE-RADIUS=500;X-TITLE=112 Constant Spring Road:geo:-76.795079334921,18.032993219455
END:VEVENT
BEGIN:VEVENT
DTSTART;TZID=America/Jamaica:20300413T220000
DTEND;TZID=America/Jamaica:20300414T040000
DTSTAMP:20260423T163053
CREATED:20250615T211334Z
LAST-MODIFIED:20250615T211334Z
UID:10001420-1902348000-1902369600@taboo876.com
SUMMARY:MOB Saturdays
DESCRIPTION:
URL:https://taboo876.com/event/mob-saturdays/2030-04-13/
LOCATION:Taboo Kingston\, 112 Constant Spring Road\, Kingston\, 00000\, Jamaica
CATEGORIES:Kingston
ATTACH;FMTTYPE=image/jpeg:https://taboo876.com/wp-content/uploads/2025/06/Taboo-Kingston-MOB-Saturdays-IG_post_default.jpg
GEO:18.032993219455;-76.795079334921
X-APPLE-STRUCTURED-LOCATION;VALUE=URI;X-ADDRESS=Taboo Kingston 112 Constant Spring Road Kingston 00000 Jamaica;X-APPLE-RADIUS=500;X-TITLE=112 Constant Spring Road:geo:-76.795079334921,18.032993219455
END:VEVENT
END:VCALENDAR